BEGIN:VCALENDAR
VERSION:2.0
PRODID:-//dhtmlXScheduler//NONSGML v2.2//EN
X-WR-CALNAME:Wydarzenia
BEGIN:VEVENT
DTSTART:20240708T000000
DTEND:20240708T000000
UID:0
SUMMARY:Abstract acceptance decision – July 8
END:VEVENT
BEGIN:VEVENT
DTSTART:20240715T000000
DTEND:20240715T000000
UID:1
SUMMARY:Early registration fee – July 15
END:VEVENT
BEGIN:VEVENT
DTSTART:20240731T000000
DTEND:20240731T000000
UID:2
SUMMARY:Late registration fee – July 31
END:VEVENT
END:VCALENDAR