BEGIN:VCALENDAR
VERSION:2.0
PRODID:-//dhtmlXScheduler//NONSGML v2.2//EN
X-WR-CALNAME:Wydarzenia
BEGIN:VEVENT
DTSTART:20240911T120000
DTEND:20240911T200000
UID:0
SUMMARY:1 Day WEDNESDAY
END:VEVENT
BEGIN:VEVENT
DTSTART:20240912T080000
DTEND:20240912T190000
UID:1
SUMMARY:2 Day THURSDAY
END:VEVENT
BEGIN:VEVENT
DTSTART:20240913T080000
DTEND:20240913T173000
UID:2
SUMMARY:3 Day FRIDAY
END:VEVENT
END:VCALENDAR